BEGIN:VCALENDAR
VERSION:2.0
PRODID:-//Martin County - ECPv6.15.18//NONSGML v1.0//EN
CALSCALE:GREGORIAN
METHOD:PUBLISH
X-WR-CALNAME:Martin County
X-ORIGINAL-URL:https://discovermartin.com
X-WR-CALDESC:Events for Martin County
REFRESH-INTERVAL;VALUE=DURATION:PT1H
X-Robots-Tag:noindex
X-PUBLISHED-TTL:PT1H
BEGIN:VTIMEZONE
TZID:America/New_York
BEGIN:DAYLIGHT
TZOFFSETFROM:-0500
TZOFFSETTO:-0400
TZNAME:EDT
DTSTART:20240310T070000
END:DAYLIGHT
BEGIN:STANDARD
TZOFFSETFROM:-0400
TZOFFSETTO:-0500
TZNAME:EST
DTSTART:20241103T060000
END:STANDARD
BEGIN:DAYLIGHT
TZOFFSETFROM:-0500
TZOFFSETTO:-0400
TZNAME:EDT
DTSTART:20250309T070000
END:DAYLIGHT
BEGIN:STANDARD
TZOFFSETFROM:-0400
TZOFFSETTO:-0500
TZNAME:EST
DTSTART:20251102T060000
END:STANDARD
BEGIN:DAYLIGHT
TZOFFSETFROM:-0500
TZOFFSETTO:-0400
TZNAME:EDT
DTSTART:20260308T070000
END:DAYLIGHT
BEGIN:STANDARD
TZOFFSETFROM:-0400
TZOFFSETTO:-0500
TZNAME:EST
DTSTART:20261101T060000
END:STANDARD
END:VTIMEZONE
BEGIN:VEVENT
DTSTART;TZID=America/New_York:20251206T190000
DTEND;TZID=America/New_York:20251206T213000
DTSTAMP:20260421T050232
CREATED:20250806T131913Z
LAST-MODIFIED:20251009T035908Z
UID:10000107-1765047600-1765056600@discovermartin.com
SUMMARY:Home for the Holidays
DESCRIPTION:The Atlantic Classical Orchestra invites you to make memories this holiday season with the 3rd annual Home for the Holidays concert. \nWhether you’re dreaming of snowflakes or palm trees\, let the magic of live holiday music warm your heart this December. From festive orchestral favorites to timeless carols\, this concert will be the perfect way to ring in the season with family and friends. We can’t wait to welcome you Home for the Holidays.
URL:https://discovermartin.com/event/home-for-the-holidays/
LOCATION:Redeemer Lutheran Church\, 2450 SE Ocean Blvd\, Stuart\, FL\, 34996\, United States
ATTACH;FMTTYPE=image/png:https://discovermartin.com/wp-content/uploads/2025/08/Holiday-Concert-2048RX1149.png
ORGANIZER;CN="Sydney Tajman":MAILTO:information@aco-music.org
END:VEVENT
END:VCALENDAR