BEGIN:VCALENDAR
VERSION:2.0
PRODID:-//Martin County - ECPv6.15.18//NONSGML v1.0//EN
CALSCALE:GREGORIAN
METHOD:PUBLISH
X-ORIGINAL-URL:https://discovermartin.com
X-WR-CALDESC:Events for Martin County
REFRESH-INTERVAL;VALUE=DURATION:PT1H
X-Robots-Tag:noindex
X-PUBLISHED-TTL:PT1H
BEGIN:VTIMEZONE
TZID:America/New_York
BEGIN:DAYLIGHT
TZOFFSETFROM:-0500
TZOFFSETTO:-0400
TZNAME:EDT
DTSTART:20250309T070000
END:DAYLIGHT
BEGIN:STANDARD
TZOFFSETFROM:-0400
TZOFFSETTO:-0500
TZNAME:EST
DTSTART:20251102T060000
END:STANDARD
BEGIN:DAYLIGHT
TZOFFSETFROM:-0500
TZOFFSETTO:-0400
TZNAME:EDT
DTSTART:20260308T070000
END:DAYLIGHT
BEGIN:STANDARD
TZOFFSETFROM:-0400
TZOFFSETTO:-0500
TZNAME:EST
DTSTART:20261101T060000
END:STANDARD
BEGIN:DAYLIGHT
TZOFFSETFROM:-0500
TZOFFSETTO:-0400
TZNAME:EDT
DTSTART:20270314T070000
END:DAYLIGHT
BEGIN:STANDARD
TZOFFSETFROM:-0400
TZOFFSETTO:-0500
TZNAME:EST
DTSTART:20271107T060000
END:STANDARD
END:VTIMEZONE
BEGIN:VEVENT
DTSTART;TZID=America/New_York:20260214T093000
DTEND;TZID=America/New_York:20260214T103000
DTSTAMP:20260421T094051
CREATED:20260211T134028Z
LAST-MODIFIED:20260211T184114Z
UID:10026985-1771061400-1771065000@discovermartin.com
SUMMARY:Valentine's Day Goat Yoga
DESCRIPTION:Come out to Mandala Garden Farms and join us for this beginners yoga practice led by Briana \nThis yoga practice will be approximately 45 minutes of Yoga with a Gong Sound Bath during Shivasana while goats explore all around and possibly on you followed by 15 minutes of picture taking opportunities\n\nThis is a beginner’s level practice .During picture time if you’d like to get into more experienced poses while Briana is there to assist with the goats you will be more than welcome to do so. We keep the class at beginner level for the safety of all partcipating including the goats if they are trying to lean or jump on you during that time.\nThe most important part of Goat Yoga is allowing the goats to calm your nerves and to make you feel that life is never that serious \nYou do not need any experience at all. If you can breathe then you can do yoga.You are welcome to follow along with the yoga practice or you are also welcome at anytime to just sit on your mat and take in some goat snuggles .\nWe may also be joined by some of the poultry on the farm if they decide they want to visit during that time.\nPlease make sure to bring a water with a lid so you don’t loose all your water when the animals knock it over\, a yoga mat that you don’t really care about and an open mind. Do not dress to impress if you care about those items of clothing.\nWe recommend tying your hair up and away so the goats don’t give you a complimentary hair trim. Jewelry is also not recommended because farm animals love to eat anything dangling and shiny.\nPlease arrive no earlier than 9:10am to sign your Agritourism waiver . We will begin at 9:30am\nMinors must be accompanied by a legal guardian.$30 cash donation per personCASH ONLYAll proceeds go towards the animals food and housing needs .\n\nThis is an outdoor event and no sinks or bathrooms are available so please plan ahead if possible .\n\nMandala Garden Farms4500 SW Cherokee StPalm City \, FL 34990
URL:https://discovermartin.com/event/valentines-day-goat-yoga/
LOCATION:Mandala Garden Farms\, 4500 SW Cherokee St\, Palm City\, FL\, 34990\, United States
ATTACH;FMTTYPE=image/jpeg:https://discovermartin.com/wp-content/uploads/2026/02/628463784_1583127307154549_3877909402827084213_n.jpg
END:VEVENT
END:VCALENDAR