BEGIN:VCALENDAR
VERSION:2.0
PRODID:-//Martin County - ECPv6.15.18//NONSGML v1.0//EN
CALSCALE:GREGORIAN
METHOD:PUBLISH
X-ORIGINAL-URL:https://discovermartin.com
X-WR-CALDESC:Events for Martin County
REFRESH-INTERVAL;VALUE=DURATION:PT1H
X-Robots-Tag:noindex
X-PUBLISHED-TTL:PT1H
BEGIN:VTIMEZONE
TZID:America/New_York
BEGIN:DAYLIGHT
TZOFFSETFROM:-0500
TZOFFSETTO:-0400
TZNAME:EDT
DTSTART:20250309T070000
END:DAYLIGHT
BEGIN:STANDARD
TZOFFSETFROM:-0400
TZOFFSETTO:-0500
TZNAME:EST
DTSTART:20251102T060000
END:STANDARD
BEGIN:DAYLIGHT
TZOFFSETFROM:-0500
TZOFFSETTO:-0400
TZNAME:EDT
DTSTART:20260308T070000
END:DAYLIGHT
BEGIN:STANDARD
TZOFFSETFROM:-0400
TZOFFSETTO:-0500
TZNAME:EST
DTSTART:20261101T060000
END:STANDARD
BEGIN:DAYLIGHT
TZOFFSETFROM:-0500
TZOFFSETTO:-0400
TZNAME:EDT
DTSTART:20270314T070000
END:DAYLIGHT
BEGIN:STANDARD
TZOFFSETFROM:-0400
TZOFFSETTO:-0500
TZNAME:EST
DTSTART:20271107T060000
END:STANDARD
END:VTIMEZONE
BEGIN:VEVENT
DTSTART;TZID=America/New_York:20260425T083000
DTEND;TZID=America/New_York:20260425T130000
DTSTAMP:20260421T051130
CREATED:20251103T162051Z
LAST-MODIFIED:20251119T183707Z
UID:10024555-1777105800-1777122000@discovermartin.com
SUMMARY:Kai-Kai Farm Market
DESCRIPTION:Come out and purchase some of the great produce and other local goodies that are in season! Vendors who join our market vary every Saturday. \nSome of our vendors are: \nValley Line Ranch | Bread by Johnny | The spice & Tea Exchange | LaRue’s Soup Boss. \nWe hope you visit us! Please remember your reusable bags. \nIt is customers like you that ensure we are in your community tomorrow!
URL:https://discovermartin.com/event/kai-kai-farm-market-2/2026-04-25/
LOCATION:Kai-Kai Farm\, 8006 SW Kanner Hwy.\, Indiantown\, FL\, 34956\, United States
ATTACH;FMTTYPE=image/jpeg:https://discovermartin.com/wp-content/uploads/2025/11/Mar-21-market-at-KKF-7046-scaled.jpg
END:VEVENT
BEGIN:VEVENT
DTSTART;TZID=America/New_York:20260502T083000
DTEND;TZID=America/New_York:20260502T130000
DTSTAMP:20260421T051130
CREATED:20251103T162051Z
LAST-MODIFIED:20251119T183707Z
UID:10024556-1777710600-1777726800@discovermartin.com
SUMMARY:Kai-Kai Farm Market
DESCRIPTION:Come out and purchase some of the great produce and other local goodies that are in season! Vendors who join our market vary every Saturday. \nSome of our vendors are: \nValley Line Ranch | Bread by Johnny | The spice & Tea Exchange | LaRue’s Soup Boss. \nWe hope you visit us! Please remember your reusable bags. \nIt is customers like you that ensure we are in your community tomorrow!
URL:https://discovermartin.com/event/kai-kai-farm-market-2/2026-05-02/
LOCATION:Kai-Kai Farm\, 8006 SW Kanner Hwy.\, Indiantown\, FL\, 34956\, United States
ATTACH;FMTTYPE=image/jpeg:https://discovermartin.com/wp-content/uploads/2025/11/Mar-21-market-at-KKF-7046-scaled.jpg
END:VEVENT
BEGIN:VEVENT
DTSTART;TZID=America/New_York:20260509T083000
DTEND;TZID=America/New_York:20260509T130000
DTSTAMP:20260421T051130
CREATED:20251103T162051Z
LAST-MODIFIED:20251119T183707Z
UID:10024557-1778315400-1778331600@discovermartin.com
SUMMARY:Kai-Kai Farm Market
DESCRIPTION:Come out and purchase some of the great produce and other local goodies that are in season! Vendors who join our market vary every Saturday. \nSome of our vendors are: \nValley Line Ranch | Bread by Johnny | The spice & Tea Exchange | LaRue’s Soup Boss. \nWe hope you visit us! Please remember your reusable bags. \nIt is customers like you that ensure we are in your community tomorrow!
URL:https://discovermartin.com/event/kai-kai-farm-market-2/2026-05-09/
LOCATION:Kai-Kai Farm\, 8006 SW Kanner Hwy.\, Indiantown\, FL\, 34956\, United States
ATTACH;FMTTYPE=image/jpeg:https://discovermartin.com/wp-content/uploads/2025/11/Mar-21-market-at-KKF-7046-scaled.jpg
END:VEVENT
BEGIN:VEVENT
DTSTART;TZID=America/New_York:20260516T083000
DTEND;TZID=America/New_York:20260516T130000
DTSTAMP:20260421T051130
CREATED:20251103T162051Z
LAST-MODIFIED:20251119T183707Z
UID:10024558-1778920200-1778936400@discovermartin.com
SUMMARY:Kai-Kai Farm Market
DESCRIPTION:Come out and purchase some of the great produce and other local goodies that are in season! Vendors who join our market vary every Saturday. \nSome of our vendors are: \nValley Line Ranch | Bread by Johnny | The spice & Tea Exchange | LaRue’s Soup Boss. \nWe hope you visit us! Please remember your reusable bags. \nIt is customers like you that ensure we are in your community tomorrow!
URL:https://discovermartin.com/event/kai-kai-farm-market-2/2026-05-16/
LOCATION:Kai-Kai Farm\, 8006 SW Kanner Hwy.\, Indiantown\, FL\, 34956\, United States
ATTACH;FMTTYPE=image/jpeg:https://discovermartin.com/wp-content/uploads/2025/11/Mar-21-market-at-KKF-7046-scaled.jpg
END:VEVENT
BEGIN:VEVENT
DTSTART;TZID=America/New_York:20260523T083000
DTEND;TZID=America/New_York:20260523T130000
DTSTAMP:20260421T051130
CREATED:20251103T162051Z
LAST-MODIFIED:20251119T183707Z
UID:10024559-1779525000-1779541200@discovermartin.com
SUMMARY:Kai-Kai Farm Market
DESCRIPTION:Come out and purchase some of the great produce and other local goodies that are in season! Vendors who join our market vary every Saturday. \nSome of our vendors are: \nValley Line Ranch | Bread by Johnny | The spice & Tea Exchange | LaRue’s Soup Boss. \nWe hope you visit us! Please remember your reusable bags. \nIt is customers like you that ensure we are in your community tomorrow!
URL:https://discovermartin.com/event/kai-kai-farm-market-2/2026-05-23/
LOCATION:Kai-Kai Farm\, 8006 SW Kanner Hwy.\, Indiantown\, FL\, 34956\, United States
ATTACH;FMTTYPE=image/jpeg:https://discovermartin.com/wp-content/uploads/2025/11/Mar-21-market-at-KKF-7046-scaled.jpg
END:VEVENT
END:VCALENDAR