BEGIN:VCALENDAR
VERSION:2.0
PRODID:-//Martin County - ECPv6.15.18//NONSGML v1.0//EN
CALSCALE:GREGORIAN
METHOD:PUBLISH
X-ORIGINAL-URL:https://discovermartin.com
X-WR-CALDESC:Events for Martin County
REFRESH-INTERVAL;VALUE=DURATION:PT1H
X-Robots-Tag:noindex
X-PUBLISHED-TTL:PT1H
BEGIN:VTIMEZONE
TZID:America/New_York
BEGIN:DAYLIGHT
TZOFFSETFROM:-0500
TZOFFSETTO:-0400
TZNAME:EDT
DTSTART:20250309T070000
END:DAYLIGHT
BEGIN:STANDARD
TZOFFSETFROM:-0400
TZOFFSETTO:-0500
TZNAME:EST
DTSTART:20251102T060000
END:STANDARD
BEGIN:DAYLIGHT
TZOFFSETFROM:-0500
TZOFFSETTO:-0400
TZNAME:EDT
DTSTART:20260308T070000
END:DAYLIGHT
BEGIN:STANDARD
TZOFFSETFROM:-0400
TZOFFSETTO:-0500
TZNAME:EST
DTSTART:20261101T060000
END:STANDARD
BEGIN:DAYLIGHT
TZOFFSETFROM:-0500
TZOFFSETTO:-0400
TZNAME:EDT
DTSTART:20270314T070000
END:DAYLIGHT
BEGIN:STANDARD
TZOFFSETFROM:-0400
TZOFFSETTO:-0500
TZNAME:EST
DTSTART:20271107T060000
END:STANDARD
END:VTIMEZONE
BEGIN:VEVENT
DTSTART;TZID=America/New_York:20260214T100000
DTEND;TZID=America/New_York:20260214T160000
DTSTAMP:20260422T082342
CREATED:20260213T150809Z
LAST-MODIFIED:20260213T150809Z
UID:10027059-1771063200-1771084800@discovermartin.com
SUMMARY:Bubbles on Bridge
DESCRIPTION:Get ready to sip\, pop\, and shop on Bridge Rd – a bubbly event with amazing beachwear. Perfect pre-game for your Valentine’s Day.\n\n\n\nWelcome to Hobe Sound Beach Shop Presents Bubbles on Bridge! Join us at Hobe Sound Beach Shop on February 14\, 2026 from 10am – 4 pm. \nGet ready for a laid-back time where you can connect with local artists\, relax\, and enjoy the Hobe Sound Beach Shop. Perfect for friends\, families\, or anyone wanting to find a local Valentine’s day gift from our vendors. \nDon’t miss out on the joy and laughter — it’s all happening live and up close. See you there!
URL:https://discovermartin.com/event/bubbles-on-bridge/
LOCATION:Hobe Sound Beach Shop\, 9045 B Southeast Bridge Road\, Hobe Sound\, FL\, 33455\, United States
ATTACH;FMTTYPE=image/jpeg:https://discovermartin.com/wp-content/uploads/2026/02/2026-02-13_100730.jpg
END:VEVENT
END:VCALENDAR