BEGIN:VCALENDAR
VERSION:2.0
PRODID:-//Martin County - ECPv6.15.18//NONSGML v1.0//EN
CALSCALE:GREGORIAN
METHOD:PUBLISH
X-ORIGINAL-URL:https://discovermartin.com
X-WR-CALDESC:Events for Martin County
REFRESH-INTERVAL;VALUE=DURATION:PT1H
X-Robots-Tag:noindex
X-PUBLISHED-TTL:PT1H
BEGIN:VTIMEZONE
TZID:America/New_York
BEGIN:DAYLIGHT
TZOFFSETFROM:-0500
TZOFFSETTO:-0400
TZNAME:EDT
DTSTART:20240310T070000
END:DAYLIGHT
BEGIN:STANDARD
TZOFFSETFROM:-0400
TZOFFSETTO:-0500
TZNAME:EST
DTSTART:20241103T060000
END:STANDARD
BEGIN:DAYLIGHT
TZOFFSETFROM:-0500
TZOFFSETTO:-0400
TZNAME:EDT
DTSTART:20250309T070000
END:DAYLIGHT
BEGIN:STANDARD
TZOFFSETFROM:-0400
TZOFFSETTO:-0500
TZNAME:EST
DTSTART:20251102T060000
END:STANDARD
BEGIN:DAYLIGHT
TZOFFSETFROM:-0500
TZOFFSETTO:-0400
TZNAME:EDT
DTSTART:20260308T070000
END:DAYLIGHT
BEGIN:STANDARD
TZOFFSETFROM:-0400
TZOFFSETTO:-0500
TZNAME:EST
DTSTART:20261101T060000
END:STANDARD
END:VTIMEZONE
BEGIN:VEVENT
DTSTART;TZID=America/New_York:20251013T083000
DTEND;TZID=America/New_York:20251013T100000
DTSTAMP:20260420T084940
CREATED:20250807T161016Z
LAST-MODIFIED:20251009T031012Z
UID:10000106-1760344200-1760349600@discovermartin.com
SUMMARY:Exploring Haney Creek Nature Walk
DESCRIPTION:Looking for a fun way to start your week ? Join us as we explore Haney Creek – a hidden gem in Stuart offering a peaceful nature trail through 157- acres of protected pine flatwoods\, wetlands and sand pine scrub. Being home to a variety of wildlife species\, this nature preserve provides great opportunities for photos and wildlife viewing so bring your binoculars and camera if you have them! \nDETAILS \nFREE program\, but reservations are required \nThis program will begin at 8:30am and last until approximately 10:00am \nThe length of this nature walk is about 1 mile\, primarily on natural surfaces including sand \nPlease wear appropriate outdoor clothing and footwear \nBring water\, sunscreen\, and bug spray \nMinors (under 18) must be accompanied by an adult \nNo pets \nAll participants will be required to sign electronic waivers that will be sent prior to the program
URL:https://discovermartin.com/event/exploring-haney-creek-nature-walk/
LOCATION:Haney Creek Park\, 391 NW Baker Rd\, Stuart\, FL\, 34994\, United States
ATTACH;FMTTYPE=image/jpeg:https://discovermartin.com/wp-content/uploads/2025/08/2025-08-07_120943.jpg
END:VEVENT
END:VCALENDAR