BEGIN:VCALENDAR
VERSION:2.0
PRODID:-//Martin County - ECPv6.15.18//NONSGML v1.0//EN
CALSCALE:GREGORIAN
METHOD:PUBLISH
X-WR-CALNAME:Martin County
X-ORIGINAL-URL:https://discovermartin.com
X-WR-CALDESC:Events for Martin County
REFRESH-INTERVAL;VALUE=DURATION:PT1H
X-Robots-Tag:noindex
X-PUBLISHED-TTL:PT1H
BEGIN:VTIMEZONE
TZID:America/New_York
BEGIN:DAYLIGHT
TZOFFSETFROM:-0500
TZOFFSETTO:-0400
TZNAME:EDT
DTSTART:20250309T070000
END:DAYLIGHT
BEGIN:STANDARD
TZOFFSETFROM:-0400
TZOFFSETTO:-0500
TZNAME:EST
DTSTART:20251102T060000
END:STANDARD
BEGIN:DAYLIGHT
TZOFFSETFROM:-0500
TZOFFSETTO:-0400
TZNAME:EDT
DTSTART:20260308T070000
END:DAYLIGHT
BEGIN:STANDARD
TZOFFSETFROM:-0400
TZOFFSETTO:-0500
TZNAME:EST
DTSTART:20261101T060000
END:STANDARD
BEGIN:DAYLIGHT
TZOFFSETFROM:-0500
TZOFFSETTO:-0400
TZNAME:EDT
DTSTART:20270314T070000
END:DAYLIGHT
BEGIN:STANDARD
TZOFFSETFROM:-0400
TZOFFSETTO:-0500
TZNAME:EST
DTSTART:20271107T060000
END:STANDARD
END:VTIMEZONE
BEGIN:VEVENT
DTSTART;TZID=America/New_York:20260416T190000
DTEND;TZID=America/New_York:20260416T203000
DTSTAMP:20260421T074526
CREATED:20260213T151621Z
LAST-MODIFIED:20260213T151621Z
UID:10027062-1776366000-1776371400@discovermartin.com
SUMMARY:Speaker Series: House of Refuge
DESCRIPTION:Ms. Larsen\, Keeper of the House of Refuge\, will share stories of this historic 150-year-old structure\, the oldest building in Martin County. Built as a sanctuary for shipwrecked mariners and travelers at a time when access to our area could be accomplished only by sea\, this is the last of 10 such facilities that were once active along the Atlantic Coast.
URL:https://discovermartin.com/event/speaker-series-house-of-refuge/
LOCATION:Apollo School\, 9141 SE Apollo Street\, Hobe Sound\, FL\, 33455\, United States
ATTACH;FMTTYPE=image/png:https://discovermartin.com/wp-content/uploads/2026/02/Untitled-design-15.png
END:VEVENT
BEGIN:VEVENT
DTSTART;TZID=America/New_York:20260319T190000
DTEND;TZID=America/New_York:20260319T200000
DTSTAMP:20260421T074526
CREATED:20260213T151523Z
LAST-MODIFIED:20260213T151523Z
UID:10027061-1773946800-1773950400@discovermartin.com
SUMMARY:Speaker Series: Trapper Nelson\, "Tarzan of the Loxahatchee"
DESCRIPTION:Ms. Mullen-Oliver\, Program Specialist for Jonathan Dickinson State Park\, will take us on a journey back in time to the years Trapper Nelson lived in our area\, 1930-1968. The program will include a Power Point presentation as well as historic photos. This is a great opportunity to learn about Trapper Nelson’s fascinating life\, living and working along the Loxahatchee River.
URL:https://discovermartin.com/event/speaker-series-trapper-nelson-tarzan-of-the-loxahatchee/
LOCATION:Apollo School\, 9141 SE Apollo Street\, Hobe Sound\, FL\, 33455\, United States
ATTACH;FMTTYPE=image/png:https://discovermartin.com/wp-content/uploads/2026/02/Untitled-design-15.png
END:VEVENT
END:VCALENDAR