BEGIN:VCALENDAR
VERSION:2.0
PRODID:-//Martin County - ECPv6.15.18//NONSGML v1.0//EN
CALSCALE:GREGORIAN
METHOD:PUBLISH
X-WR-CALNAME:Martin County
X-ORIGINAL-URL:https://discovermartin.com
X-WR-CALDESC:Events for Martin County
REFRESH-INTERVAL;VALUE=DURATION:PT1H
X-Robots-Tag:noindex
X-PUBLISHED-TTL:PT1H
BEGIN:VTIMEZONE
TZID:America/New_York
BEGIN:DAYLIGHT
TZOFFSETFROM:-0500
TZOFFSETTO:-0400
TZNAME:EDT
DTSTART:20250309T070000
END:DAYLIGHT
BEGIN:STANDARD
TZOFFSETFROM:-0400
TZOFFSETTO:-0500
TZNAME:EST
DTSTART:20251102T060000
END:STANDARD
BEGIN:DAYLIGHT
TZOFFSETFROM:-0500
TZOFFSETTO:-0400
TZNAME:EDT
DTSTART:20260308T070000
END:DAYLIGHT
BEGIN:STANDARD
TZOFFSETFROM:-0400
TZOFFSETTO:-0500
TZNAME:EST
DTSTART:20261101T060000
END:STANDARD
BEGIN:DAYLIGHT
TZOFFSETFROM:-0500
TZOFFSETTO:-0400
TZNAME:EDT
DTSTART:20270314T070000
END:DAYLIGHT
BEGIN:STANDARD
TZOFFSETFROM:-0400
TZOFFSETTO:-0500
TZNAME:EST
DTSTART:20271107T060000
END:STANDARD
END:VTIMEZONE
BEGIN:VEVENT
DTSTART;TZID=America/New_York:20260312T180000
DTEND;TZID=America/New_York:20260312T193000
DTSTAMP:20260420T093431
CREATED:20260224T205757Z
LAST-MODIFIED:20260224T205757Z
UID:10027084-1773338400-1773343800@discovermartin.com
SUMMARY:TCWC Ecological Hike at KC Trails
DESCRIPTION:Step into nature and discover the beauty of our local ecosystem on this guided Ecological Hike in partnership with the local Treasure Coast Wildlife Center. \nThis immersive outdoor experience is designed for nature lovers of all ages who want to explore\, learn\, and connect with the environment in a meaningful way. \nAs we journey along scenic trails\, you’ll learn about native plants\, wildlife habitats\, conservation efforts\, and the delicate balance that keeps our ecosystems thriving. Our guide will share fascinating insights about the natural world around us and offer tips on how we can all help protect it.\n*Explore diverse plant and animal life\n*Learn about local ecology and conservation\n*Enjoy fresh air\, scenic views & snacks\n*Interactive and educational experience\nWhether you’re an experienced hiker or just looking for a peaceful day outdoors\, this ecological hike is a wonderful opportunity to slow down\, observe\, and appreciate the natural world.
URL:https://discovermartin.com/event/tcwc-ecological-hike-at-kc-trails/
LOCATION:KC Trails\, 100 SW Newfield Parkway\, Palm City\, FL\, 34990\, United States
ORGANIZER;CN="Newfield":MAILTO:info@newfieldfl.com
END:VEVENT
END:VCALENDAR