BEGIN:VCALENDAR
VERSION:2.0
PRODID:-//Martin County - ECPv6.15.18//NONSGML v1.0//EN
CALSCALE:GREGORIAN
METHOD:PUBLISH
X-ORIGINAL-URL:https://discovermartin.com
X-WR-CALDESC:Events for Martin County
REFRESH-INTERVAL;VALUE=DURATION:PT1H
X-Robots-Tag:noindex
X-PUBLISHED-TTL:PT1H
BEGIN:VTIMEZONE
TZID:America/New_York
BEGIN:DAYLIGHT
TZOFFSETFROM:-0500
TZOFFSETTO:-0400
TZNAME:EDT
DTSTART:20250309T070000
END:DAYLIGHT
BEGIN:STANDARD
TZOFFSETFROM:-0400
TZOFFSETTO:-0500
TZNAME:EST
DTSTART:20251102T060000
END:STANDARD
BEGIN:DAYLIGHT
TZOFFSETFROM:-0500
TZOFFSETTO:-0400
TZNAME:EDT
DTSTART:20260308T070000
END:DAYLIGHT
BEGIN:STANDARD
TZOFFSETFROM:-0400
TZOFFSETTO:-0500
TZNAME:EST
DTSTART:20261101T060000
END:STANDARD
BEGIN:DAYLIGHT
TZOFFSETFROM:-0500
TZOFFSETTO:-0400
TZNAME:EDT
DTSTART:20270314T070000
END:DAYLIGHT
BEGIN:STANDARD
TZOFFSETFROM:-0400
TZOFFSETTO:-0500
TZNAME:EST
DTSTART:20271107T060000
END:STANDARD
END:VTIMEZONE
BEGIN:VEVENT
DTSTART;TZID=America/New_York:20260221T100000
DTEND;TZID=America/New_York:20260222T170000
DTSTAMP:20260422T080100
CREATED:20260212T214834Z
LAST-MODIFIED:20260212T214834Z
UID:10027031-1771668000-1771779600@discovermartin.com
SUMMARY:Martin County Open Studio Tour
DESCRIPTION:The highly anticipated Martin County Open Studio Tour is here! Organized by the Martin Artisans Guild\, this annual event will showcase works from over 20 talented artists during the full two-day Open Studio Tour on February 21-22. \nDiscover an exciting opportunity to connect with talented artists at this exciting event! Explore the creative worlds of artists from Martin County—including Hobe Sound\, Palm City\, Port Salerno\, Stuart\, and Jensen Beach —and gain an inside look at their inspiring processes. \nThe weekend features a free\, self-guided tour full of artistic exploration hosted by Martin Artisans Guild\, a local non-profit 501 (c)(3) volunteer and artist-run organization. Meet artists in their studios\, view a stunning variety of artwork\, and even buy directly from the artists. You can also enjoy live demonstrations as you learn a variety of artistic processes. \nTour guides are available at the Palm Room Art Gallery. \nMartin County Open Studio Tour – Open Studio Tour weekend dates –\nFebruary 21-February 22\, studios open 10 am – 5 pm daily \nMore information about the event:\nhttps://martinartisansguild.org/mcost-1 \nSubscribe for information about Martin Artisans Guild exhibits\, news\, events\, and membership:\nhttps://martinartisansguild.org/about \nMedia Contact:\nMichaelann Bellerjeau mabeller@comast.net\nTour guides available that night and at the Palm Room Gallery\nArtists:\nGlen Allen\nChris August\nJane Lawton Baldridge\nMichaelann Bellerjeau\nKimberly Beltrame\nMallo Bisset\nDeborah Bottorff\nBarbara Bucci\nCynthia Cooper\nLauraKay Darvill\nJames DeMartis\nHugh (Ed) Douglas\nStephen Fry\nBarbara Fugazzotto\nEduardo Gomez\nPaul Herber\nDenise Jackson\nRenee Keil\nSue Klahne\nChris Kling\nJudi LeBlanc\nSheryl Levine\nVickie Marsango\nMaria Miele\nRenee Simler\nJennifer Sky\nCarolyn Walsh\nCurt Whiticar\nSubscribe to be notified\nhttps://martinartisansguild.org/about \nContact: Kim Beltrame kimberlydbeltrameart@gmail.com \nMartin Artisans Guild\nwww.martinartisansguild.org
URL:https://discovermartin.com/event/martin-county-open-studio-tour/
ATTACH;FMTTYPE=image/jpeg:https://discovermartin.com/wp-content/uploads/2026/02/IMG_1885-scaled.jpeg
ORGANIZER;CN="martin artisans guild":MAILTO:rakeil@comcast.net
END:VEVENT
END:VCALENDAR