BEGIN:VCALENDAR
VERSION:2.0
PRODID:-//Martin County - ECPv6.15.18//NONSGML v1.0//EN
CALSCALE:GREGORIAN
METHOD:PUBLISH
X-ORIGINAL-URL:https://discovermartin.com
X-WR-CALDESC:Events for Martin County
REFRESH-INTERVAL;VALUE=DURATION:PT1H
X-Robots-Tag:noindex
X-PUBLISHED-TTL:PT1H
BEGIN:VTIMEZONE
TZID:America/New_York
BEGIN:DAYLIGHT
TZOFFSETFROM:-0500
TZOFFSETTO:-0400
TZNAME:EDT
DTSTART:20240310T070000
END:DAYLIGHT
BEGIN:STANDARD
TZOFFSETFROM:-0400
TZOFFSETTO:-0500
TZNAME:EST
DTSTART:20241103T060000
END:STANDARD
BEGIN:DAYLIGHT
TZOFFSETFROM:-0500
TZOFFSETTO:-0400
TZNAME:EDT
DTSTART:20250309T070000
END:DAYLIGHT
BEGIN:STANDARD
TZOFFSETFROM:-0400
TZOFFSETTO:-0500
TZNAME:EST
DTSTART:20251102T060000
END:STANDARD
BEGIN:DAYLIGHT
TZOFFSETFROM:-0500
TZOFFSETTO:-0400
TZNAME:EDT
DTSTART:20260308T070000
END:DAYLIGHT
BEGIN:STANDARD
TZOFFSETFROM:-0400
TZOFFSETTO:-0500
TZNAME:EST
DTSTART:20261101T060000
END:STANDARD
BEGIN:DAYLIGHT
TZOFFSETFROM:-0500
TZOFFSETTO:-0400
TZNAME:EDT
DTSTART:20270314T070000
END:DAYLIGHT
BEGIN:STANDARD
TZOFFSETFROM:-0400
TZOFFSETTO:-0500
TZNAME:EST
DTSTART:20271107T060000
END:STANDARD
END:VTIMEZONE
BEGIN:VEVENT
DTSTART;TZID=America/New_York:20260315T140000
DTEND;TZID=America/New_York:20260315T160000
DTSTAMP:20260421T051326
CREATED:20260302T200936Z
LAST-MODIFIED:20260302T200936Z
UID:10028063-1773583200-1773590400@discovermartin.com
SUMMARY:Stuart Community Concert Band presents Danse\, Danza\, Dance!
DESCRIPTION:Come hear your favorite dance music as the Stuart Community Concert Band performs Danse\, Danza\, Dance. You’ll hear a fiery Cuban salsa\, a fast step polka and a rock ‘n roll explosion. Listen to an Irish jig down below on the Titanic\, swing to “In the Mood\,” and picture the high kicks of a cancan. The Band will also be performing a selection from “Carmen” and “Danse Bacchanale” from Samson and Delilah. Don’t miss this concert that will have you dancing in the aisles.\nThe concert will be held on March 15\, 2026\, at the Charles & Rae Kane Center at 2:00 p.m.\, 900 S.E. Salerno Road in Stuart. Tickets can be purchased by calling the Kane Center at 772-223-7800 or can be purchased in person by visiting the Kane Center during business hours. In addition tickets are available on line through March 6 at www.kanecenter.org by clicking on Event Calendar. Advance tickets are $14; $16 at the door. Seating is limited; for a guaranteed seat\, purchase your tickets early. \nMark your calendar as the Band’s 2025-2026 season continues with: “1920’s Prohibition Era” on April 12\, 2026 and “Sousa Spectacular” on May 17\, 2026. \nThe Stuart Community Concert Band is a 501c(3) not-for-profit organization and has been playing music for the community for over 100 years. Over 70 dedicated volunteer musicians play for the love of music. For more information on the Band and how you can help support your community band\, visit www.Stuartcommunityconcertband.org.
URL:https://discovermartin.com/event/stuart-community-concert-band-presents-danse-danza-dance/
ATTACH;FMTTYPE=image/jpeg:https://discovermartin.com/wp-content/uploads/2026/02/Ensemble-2-copy-scaled.jpg
ORGANIZER;CN="L. Pfeiffer":MAILTO:lpfeiffer@optonline.net
END:VEVENT
BEGIN:VEVENT
DTSTART;TZID=America/New_York:20251019T140000
DTEND;TZID=America/New_York:20251019T163000
DTSTAMP:20260421T051326
CREATED:20250922T133551Z
LAST-MODIFIED:20251201T205132Z
UID:10000058-1760882400-1760891400@discovermartin.com
SUMMARY:The Stuart Community Concert Band presents music to Thrill and Chill You!
DESCRIPTION:A blackened theatre\, a ghost or two and music to chill and thrill you. The Stuart Community Concert Band begins its season with Halloween Chillers and Thrillers on October 19\, 2025\, at the Kane Center in Stuart. Immerse yourself in the music of “Dance Macabre\,” “The Phantom of the Opera\,” “Fantasia” and “Music For A Darkened Theatre” including “The Nightmare Before Christmas” and “Beetlejuice.” These are just a few of the pieces that will have you on the edge of your seat. \nThe concert will be held on October 19\, 2025\, at the Charles & Rae Kane Center at 2:00 p.m.\, 900 S.E. Salerno Road in Stuart. For more information and tickets contact the Kane Center at 772-223-7800\, purchase tickets on line at www.kanecenter.org by clicking on Event Calendar or visit www.Stuartcommunityconcertband.org for a link to purchase tickets. Advance tickets are $14; $16 at the door. Seating is limited; for a guaranteed seat\, purchase your tickets early. \nMark your calendar as the Band’s 2025-2026 season continues with: “Vegas\, Baby!” on January 25\, 2026\, “Danse\, Danza\, Dance” on March 15\, 2026\, “1920’s Prohibition Era” on April 12\, 2026 and “Sousa Spectacular” on May 17\, 2026. \nThe Stuart Community Concert Band is a 501c(3) not-for-profit organization of over 70 dedicated volunteer musicians who play for the love of music. For more information on the Band and how you can help support your community band\, visit www.Stuartcommunityconcertband.org.
URL:https://discovermartin.com/event/the-stuart-community-concert-band-presents-music-to-thrill-and-chill-you/
ATTACH;FMTTYPE=image/jpeg:https://discovermartin.com/wp-content/uploads/2025/09/Band-1-2025.jpg
ORGANIZER;CN="L. Pfeiffer":MAILTO:lpfeiffer@optonline.net
END:VEVENT
END:VCALENDAR