BEGIN:VCALENDAR
VERSION:2.0
PRODID:-//Martin County - ECPv6.15.18//NONSGML v1.0//EN
CALSCALE:GREGORIAN
METHOD:PUBLISH
X-ORIGINAL-URL:https://discovermartin.com
X-WR-CALDESC:Events for Martin County
REFRESH-INTERVAL;VALUE=DURATION:PT1H
X-Robots-Tag:noindex
X-PUBLISHED-TTL:PT1H
BEGIN:VTIMEZONE
TZID:America/New_York
BEGIN:DAYLIGHT
TZOFFSETFROM:-0500
TZOFFSETTO:-0400
TZNAME:EDT
DTSTART:20250309T070000
END:DAYLIGHT
BEGIN:STANDARD
TZOFFSETFROM:-0400
TZOFFSETTO:-0500
TZNAME:EST
DTSTART:20251102T060000
END:STANDARD
BEGIN:DAYLIGHT
TZOFFSETFROM:-0500
TZOFFSETTO:-0400
TZNAME:EDT
DTSTART:20260308T070000
END:DAYLIGHT
BEGIN:STANDARD
TZOFFSETFROM:-0400
TZOFFSETTO:-0500
TZNAME:EST
DTSTART:20261101T060000
END:STANDARD
BEGIN:DAYLIGHT
TZOFFSETFROM:-0500
TZOFFSETTO:-0400
TZNAME:EDT
DTSTART:20270314T070000
END:DAYLIGHT
BEGIN:STANDARD
TZOFFSETFROM:-0400
TZOFFSETTO:-0500
TZNAME:EST
DTSTART:20271107T060000
END:STANDARD
END:VTIMEZONE
BEGIN:VEVENT
DTSTART;TZID=America/New_York:20260418T180000
DTEND;TZID=America/New_York:20260418T193000
DTSTAMP:20260422T064222
CREATED:20260209T192706Z
LAST-MODIFIED:20260408T132438Z
UID:10026670-1776535200-1776540600@discovermartin.com
SUMMARY:Saturday Sound Bath
DESCRIPTION:Saturday Sound Healing ✨ \nEvery Saturday\, embark on a transformative journey where each week unfolds with a unique theme—Heart Activation\, The Magic of Gratitude\, Chakra Balancing\, Activating the Pineal Gland\, Self-Love\, Manifestation\, Affirmations\, Full Moon journeys\, and more. \nThis is more than relaxation—it’s a powerful activation. Experience the resonance of gongs\, crystal singing bowls\, and chimes as they awaken the pineal gland\, balance the chakras\, and tone the vagus nerve for deep healing. Let the soothing frequencies realign your energy\, dissolve stress\, and elevate your vibration. Whether you are seeking clarity\, inner peace\, or spiritual awakening\, these immersive sessions leave you rejuvenated and empowered for the weekend ahead. \nRegular participation deepens the benefits—supporting physical ease\, emotional balance\, mental clarity\, and an overall sense of well-being.
URL:https://discovermartin.com/event/saturday-sound-bath/2026-04-18/
LOCATION:Elliott Museum\, 825 NE Ocean Blvd\, Stuart \, FL\, 34996\, United States
ATTACH;FMTTYPE=image/png:https://discovermartin.com/wp-content/uploads/2026/02/Ai-Zero-_two.png
ORGANIZER;CN="Deena Rahill":MAILTO:deenarahill@gmail.com
END:VEVENT
BEGIN:VEVENT
DTSTART;TZID=America/New_York:20260411T180000
DTEND;TZID=America/New_York:20260411T193000
DTSTAMP:20260422T064222
CREATED:20260209T192706Z
LAST-MODIFIED:20260408T132438Z
UID:10026669-1775930400-1775935800@discovermartin.com
SUMMARY:Saturday Sound Bath
DESCRIPTION:Saturday Sound Healing ✨ \nEvery Saturday\, embark on a transformative journey where each week unfolds with a unique theme—Heart Activation\, The Magic of Gratitude\, Chakra Balancing\, Activating the Pineal Gland\, Self-Love\, Manifestation\, Affirmations\, Full Moon journeys\, and more. \nThis is more than relaxation—it’s a powerful activation. Experience the resonance of gongs\, crystal singing bowls\, and chimes as they awaken the pineal gland\, balance the chakras\, and tone the vagus nerve for deep healing. Let the soothing frequencies realign your energy\, dissolve stress\, and elevate your vibration. Whether you are seeking clarity\, inner peace\, or spiritual awakening\, these immersive sessions leave you rejuvenated and empowered for the weekend ahead. \nRegular participation deepens the benefits—supporting physical ease\, emotional balance\, mental clarity\, and an overall sense of well-being.
URL:https://discovermartin.com/event/saturday-sound-bath/2026-04-11/
LOCATION:Elliott Museum\, 825 NE Ocean Blvd\, Stuart \, FL\, 34996\, United States
ATTACH;FMTTYPE=image/png:https://discovermartin.com/wp-content/uploads/2026/02/Ai-Zero-_two.png
ORGANIZER;CN="Deena Rahill":MAILTO:deenarahill@gmail.com
END:VEVENT
BEGIN:VEVENT
DTSTART;TZID=America/New_York:20260404T180000
DTEND;TZID=America/New_York:20260404T193000
DTSTAMP:20260422T064222
CREATED:20260209T192706Z
LAST-MODIFIED:20260408T132438Z
UID:10026668-1775325600-1775331000@discovermartin.com
SUMMARY:Saturday Sound Bath
DESCRIPTION:Saturday Sound Healing ✨ \nEvery Saturday\, embark on a transformative journey where each week unfolds with a unique theme—Heart Activation\, The Magic of Gratitude\, Chakra Balancing\, Activating the Pineal Gland\, Self-Love\, Manifestation\, Affirmations\, Full Moon journeys\, and more. \nThis is more than relaxation—it’s a powerful activation. Experience the resonance of gongs\, crystal singing bowls\, and chimes as they awaken the pineal gland\, balance the chakras\, and tone the vagus nerve for deep healing. Let the soothing frequencies realign your energy\, dissolve stress\, and elevate your vibration. Whether you are seeking clarity\, inner peace\, or spiritual awakening\, these immersive sessions leave you rejuvenated and empowered for the weekend ahead. \nRegular participation deepens the benefits—supporting physical ease\, emotional balance\, mental clarity\, and an overall sense of well-being.
URL:https://discovermartin.com/event/saturday-sound-bath/2026-04-04/
LOCATION:Elliott Museum\, 825 NE Ocean Blvd\, Stuart \, FL\, 34996\, United States
ATTACH;FMTTYPE=image/png:https://discovermartin.com/wp-content/uploads/2026/02/Ai-Zero-_two.png
ORGANIZER;CN="Deena Rahill":MAILTO:deenarahill@gmail.com
END:VEVENT
BEGIN:VEVENT
DTSTART;TZID=America/New_York:20260328T180000
DTEND;TZID=America/New_York:20260328T193000
DTSTAMP:20260422T064222
CREATED:20260209T192706Z
LAST-MODIFIED:20260408T132438Z
UID:10026667-1774720800-1774726200@discovermartin.com
SUMMARY:Saturday Sound Bath
DESCRIPTION:Saturday Sound Healing ✨ \nEvery Saturday\, embark on a transformative journey where each week unfolds with a unique theme—Heart Activation\, The Magic of Gratitude\, Chakra Balancing\, Activating the Pineal Gland\, Self-Love\, Manifestation\, Affirmations\, Full Moon journeys\, and more. \nThis is more than relaxation—it’s a powerful activation. Experience the resonance of gongs\, crystal singing bowls\, and chimes as they awaken the pineal gland\, balance the chakras\, and tone the vagus nerve for deep healing. Let the soothing frequencies realign your energy\, dissolve stress\, and elevate your vibration. Whether you are seeking clarity\, inner peace\, or spiritual awakening\, these immersive sessions leave you rejuvenated and empowered for the weekend ahead. \nRegular participation deepens the benefits—supporting physical ease\, emotional balance\, mental clarity\, and an overall sense of well-being.
URL:https://discovermartin.com/event/saturday-sound-bath/2026-03-28/
LOCATION:Elliott Museum\, 825 NE Ocean Blvd\, Stuart \, FL\, 34996\, United States
ATTACH;FMTTYPE=image/png:https://discovermartin.com/wp-content/uploads/2026/02/Ai-Zero-_two.png
ORGANIZER;CN="Deena Rahill":MAILTO:deenarahill@gmail.com
END:VEVENT
BEGIN:VEVENT
DTSTART;TZID=America/New_York:20260321T180000
DTEND;TZID=America/New_York:20260321T193000
DTSTAMP:20260422T064222
CREATED:20260209T192706Z
LAST-MODIFIED:20260408T132438Z
UID:10026666-1774116000-1774121400@discovermartin.com
SUMMARY:Saturday Sound Bath
DESCRIPTION:Saturday Sound Healing ✨ \nEvery Saturday\, embark on a transformative journey where each week unfolds with a unique theme—Heart Activation\, The Magic of Gratitude\, Chakra Balancing\, Activating the Pineal Gland\, Self-Love\, Manifestation\, Affirmations\, Full Moon journeys\, and more. \nThis is more than relaxation—it’s a powerful activation. Experience the resonance of gongs\, crystal singing bowls\, and chimes as they awaken the pineal gland\, balance the chakras\, and tone the vagus nerve for deep healing. Let the soothing frequencies realign your energy\, dissolve stress\, and elevate your vibration. Whether you are seeking clarity\, inner peace\, or spiritual awakening\, these immersive sessions leave you rejuvenated and empowered for the weekend ahead. \nRegular participation deepens the benefits—supporting physical ease\, emotional balance\, mental clarity\, and an overall sense of well-being.
URL:https://discovermartin.com/event/saturday-sound-bath/2026-03-21/
LOCATION:Elliott Museum\, 825 NE Ocean Blvd\, Stuart \, FL\, 34996\, United States
ATTACH;FMTTYPE=image/png:https://discovermartin.com/wp-content/uploads/2026/02/Ai-Zero-_two.png
ORGANIZER;CN="Deena Rahill":MAILTO:deenarahill@gmail.com
END:VEVENT
BEGIN:VEVENT
DTSTART;TZID=America/New_York:20260314T180000
DTEND;TZID=America/New_York:20260314T193000
DTSTAMP:20260422T064222
CREATED:20260209T192706Z
LAST-MODIFIED:20260408T132438Z
UID:10026665-1773511200-1773516600@discovermartin.com
SUMMARY:Saturday Sound Bath
DESCRIPTION:Saturday Sound Healing ✨ \nEvery Saturday\, embark on a transformative journey where each week unfolds with a unique theme—Heart Activation\, The Magic of Gratitude\, Chakra Balancing\, Activating the Pineal Gland\, Self-Love\, Manifestation\, Affirmations\, Full Moon journeys\, and more. \nThis is more than relaxation—it’s a powerful activation. Experience the resonance of gongs\, crystal singing bowls\, and chimes as they awaken the pineal gland\, balance the chakras\, and tone the vagus nerve for deep healing. Let the soothing frequencies realign your energy\, dissolve stress\, and elevate your vibration. Whether you are seeking clarity\, inner peace\, or spiritual awakening\, these immersive sessions leave you rejuvenated and empowered for the weekend ahead. \nRegular participation deepens the benefits—supporting physical ease\, emotional balance\, mental clarity\, and an overall sense of well-being.
URL:https://discovermartin.com/event/saturday-sound-bath/2026-03-14/
LOCATION:Elliott Museum\, 825 NE Ocean Blvd\, Stuart \, FL\, 34996\, United States
ATTACH;FMTTYPE=image/png:https://discovermartin.com/wp-content/uploads/2026/02/Ai-Zero-_two.png
ORGANIZER;CN="Deena Rahill":MAILTO:deenarahill@gmail.com
END:VEVENT
BEGIN:VEVENT
DTSTART;TZID=America/New_York:20260307T180000
DTEND;TZID=America/New_York:20260307T193000
DTSTAMP:20260422T064222
CREATED:20260209T192706Z
LAST-MODIFIED:20260408T132438Z
UID:10026664-1772906400-1772911800@discovermartin.com
SUMMARY:Saturday Sound Bath
DESCRIPTION:Saturday Sound Healing ✨ \nEvery Saturday\, embark on a transformative journey where each week unfolds with a unique theme—Heart Activation\, The Magic of Gratitude\, Chakra Balancing\, Activating the Pineal Gland\, Self-Love\, Manifestation\, Affirmations\, Full Moon journeys\, and more. \nThis is more than relaxation—it’s a powerful activation. Experience the resonance of gongs\, crystal singing bowls\, and chimes as they awaken the pineal gland\, balance the chakras\, and tone the vagus nerve for deep healing. Let the soothing frequencies realign your energy\, dissolve stress\, and elevate your vibration. Whether you are seeking clarity\, inner peace\, or spiritual awakening\, these immersive sessions leave you rejuvenated and empowered for the weekend ahead. \nRegular participation deepens the benefits—supporting physical ease\, emotional balance\, mental clarity\, and an overall sense of well-being.
URL:https://discovermartin.com/event/saturday-sound-bath/2026-03-07/
LOCATION:Elliott Museum\, 825 NE Ocean Blvd\, Stuart \, FL\, 34996\, United States
ATTACH;FMTTYPE=image/png:https://discovermartin.com/wp-content/uploads/2026/02/Ai-Zero-_two.png
ORGANIZER;CN="Deena Rahill":MAILTO:deenarahill@gmail.com
END:VEVENT
BEGIN:VEVENT
DTSTART;TZID=America/New_York:20260228T180000
DTEND;TZID=America/New_York:20260228T193000
DTSTAMP:20260422T064222
CREATED:20260209T192706Z
LAST-MODIFIED:20260408T132438Z
UID:10026663-1772301600-1772307000@discovermartin.com
SUMMARY:Saturday Sound Bath
DESCRIPTION:Saturday Sound Healing ✨ \nEvery Saturday\, embark on a transformative journey where each week unfolds with a unique theme—Heart Activation\, The Magic of Gratitude\, Chakra Balancing\, Activating the Pineal Gland\, Self-Love\, Manifestation\, Affirmations\, Full Moon journeys\, and more. \nThis is more than relaxation—it’s a powerful activation. Experience the resonance of gongs\, crystal singing bowls\, and chimes as they awaken the pineal gland\, balance the chakras\, and tone the vagus nerve for deep healing. Let the soothing frequencies realign your energy\, dissolve stress\, and elevate your vibration. Whether you are seeking clarity\, inner peace\, or spiritual awakening\, these immersive sessions leave you rejuvenated and empowered for the weekend ahead. \nRegular participation deepens the benefits—supporting physical ease\, emotional balance\, mental clarity\, and an overall sense of well-being.
URL:https://discovermartin.com/event/saturday-sound-bath/2026-02-28/
LOCATION:Elliott Museum\, 825 NE Ocean Blvd\, Stuart \, FL\, 34996\, United States
ATTACH;FMTTYPE=image/png:https://discovermartin.com/wp-content/uploads/2026/02/Ai-Zero-_two.png
ORGANIZER;CN="Deena Rahill":MAILTO:deenarahill@gmail.com
END:VEVENT
BEGIN:VEVENT
DTSTART;TZID=America/New_York:20260221T180000
DTEND;TZID=America/New_York:20260221T193000
DTSTAMP:20260422T064222
CREATED:20260209T192706Z
LAST-MODIFIED:20260408T132438Z
UID:10026662-1771696800-1771702200@discovermartin.com
SUMMARY:Saturday Sound Bath
DESCRIPTION:Saturday Sound Healing ✨ \nEvery Saturday\, embark on a transformative journey where each week unfolds with a unique theme—Heart Activation\, The Magic of Gratitude\, Chakra Balancing\, Activating the Pineal Gland\, Self-Love\, Manifestation\, Affirmations\, Full Moon journeys\, and more. \nThis is more than relaxation—it’s a powerful activation. Experience the resonance of gongs\, crystal singing bowls\, and chimes as they awaken the pineal gland\, balance the chakras\, and tone the vagus nerve for deep healing. Let the soothing frequencies realign your energy\, dissolve stress\, and elevate your vibration. Whether you are seeking clarity\, inner peace\, or spiritual awakening\, these immersive sessions leave you rejuvenated and empowered for the weekend ahead. \nRegular participation deepens the benefits—supporting physical ease\, emotional balance\, mental clarity\, and an overall sense of well-being.
URL:https://discovermartin.com/event/saturday-sound-bath/2026-02-21/
LOCATION:Elliott Museum\, 825 NE Ocean Blvd\, Stuart \, FL\, 34996\, United States
ATTACH;FMTTYPE=image/png:https://discovermartin.com/wp-content/uploads/2026/02/Ai-Zero-_two.png
ORGANIZER;CN="Deena Rahill":MAILTO:deenarahill@gmail.com
END:VEVENT
BEGIN:VEVENT
DTSTART;TZID=America/New_York:20260214T180000
DTEND;TZID=America/New_York:20260214T193000
DTSTAMP:20260422T064222
CREATED:20260209T192706Z
LAST-MODIFIED:20260408T132438Z
UID:10026661-1771092000-1771097400@discovermartin.com
SUMMARY:Saturday Sound Bath
DESCRIPTION:Saturday Sound Healing ✨ \nEvery Saturday\, embark on a transformative journey where each week unfolds with a unique theme—Heart Activation\, The Magic of Gratitude\, Chakra Balancing\, Activating the Pineal Gland\, Self-Love\, Manifestation\, Affirmations\, Full Moon journeys\, and more. \nThis is more than relaxation—it’s a powerful activation. Experience the resonance of gongs\, crystal singing bowls\, and chimes as they awaken the pineal gland\, balance the chakras\, and tone the vagus nerve for deep healing. Let the soothing frequencies realign your energy\, dissolve stress\, and elevate your vibration. Whether you are seeking clarity\, inner peace\, or spiritual awakening\, these immersive sessions leave you rejuvenated and empowered for the weekend ahead. \nRegular participation deepens the benefits—supporting physical ease\, emotional balance\, mental clarity\, and an overall sense of well-being.
URL:https://discovermartin.com/event/saturday-sound-bath/2026-02-14/
LOCATION:Elliott Museum\, 825 NE Ocean Blvd\, Stuart \, FL\, 34996\, United States
ATTACH;FMTTYPE=image/png:https://discovermartin.com/wp-content/uploads/2026/02/Ai-Zero-_two.png
ORGANIZER;CN="Deena Rahill":MAILTO:deenarahill@gmail.com
END:VEVENT
BEGIN:VEVENT
DTSTART;TZID=America/New_York:20260207T180000
DTEND;TZID=America/New_York:20260207T193000
DTSTAMP:20260422T064222
CREATED:20260209T192706Z
LAST-MODIFIED:20260408T132438Z
UID:10026660-1770487200-1770492600@discovermartin.com
SUMMARY:Saturday Sound Bath
DESCRIPTION:Saturday Sound Healing ✨ \nEvery Saturday\, embark on a transformative journey where each week unfolds with a unique theme—Heart Activation\, The Magic of Gratitude\, Chakra Balancing\, Activating the Pineal Gland\, Self-Love\, Manifestation\, Affirmations\, Full Moon journeys\, and more. \nThis is more than relaxation—it’s a powerful activation. Experience the resonance of gongs\, crystal singing bowls\, and chimes as they awaken the pineal gland\, balance the chakras\, and tone the vagus nerve for deep healing. Let the soothing frequencies realign your energy\, dissolve stress\, and elevate your vibration. Whether you are seeking clarity\, inner peace\, or spiritual awakening\, these immersive sessions leave you rejuvenated and empowered for the weekend ahead. \nRegular participation deepens the benefits—supporting physical ease\, emotional balance\, mental clarity\, and an overall sense of well-being.
URL:https://discovermartin.com/event/saturday-sound-bath/2026-02-07/
LOCATION:Elliott Museum\, 825 NE Ocean Blvd\, Stuart \, FL\, 34996\, United States
ATTACH;FMTTYPE=image/png:https://discovermartin.com/wp-content/uploads/2026/02/Ai-Zero-_two.png
ORGANIZER;CN="Deena Rahill":MAILTO:deenarahill@gmail.com
END:VEVENT
END:VCALENDAR